BEGIN:VCALENDAR
VERSION:2.0
PRODID:-//Not By Bread Alone - ECPv6.15.17//NONSGML v1.0//EN
CALSCALE:GREGORIAN
METHOD:PUBLISH
X-WR-CALNAME:Not By Bread Alone
X-ORIGINAL-URL:https://notbybread.com
X-WR-CALDESC:Events for Not By Bread Alone
REFRESH-INTERVAL;VALUE=DURATION:PT1H
X-Robots-Tag:noindex
X-PUBLISHED-TTL:PT1H
BEGIN:VTIMEZONE
TZID:America/Chicago
BEGIN:DAYLIGHT
TZOFFSETFROM:-0600
TZOFFSETTO:-0500
TZNAME:CDT
DTSTART:20250309T080000
END:DAYLIGHT
BEGIN:STANDARD
TZOFFSETFROM:-0500
TZOFFSETTO:-0600
TZNAME:CST
DTSTART:20251102T070000
END:STANDARD
BEGIN:DAYLIGHT
TZOFFSETFROM:-0600
TZOFFSETTO:-0500
TZNAME:CDT
DTSTART:20260308T080000
END:DAYLIGHT
BEGIN:STANDARD
TZOFFSETFROM:-0500
TZOFFSETTO:-0600
TZNAME:CST
DTSTART:20261101T070000
END:STANDARD
BEGIN:DAYLIGHT
TZOFFSETFROM:-0600
TZOFFSETTO:-0500
TZNAME:CDT
DTSTART:20270314T080000
END:DAYLIGHT
BEGIN:STANDARD
TZOFFSETFROM:-0500
TZOFFSETTO:-0600
TZNAME:CST
DTSTART:20271107T070000
END:STANDARD
END:VTIMEZONE
BEGIN:VEVENT
DTSTART;TZID=America/Chicago:20260422T000000
DTEND;TZID=America/Chicago:20260423T235959
DTSTAMP:20260422T071436
CREATED:20260406T124454Z
LAST-MODIFIED:20260406T124454Z
UID:901-1776816000-1776988799@notbybread.com
SUMMARY:Pastas (1. Waldorf  2. Spring Vegetable)  Soups  (1. Split Pea & Ham 2. Carrot Bisque)
DESCRIPTION:April 22-23\n1. Waldorf \n2. Spring Vegetable\n1. Split Pea & Ham \n2. Carrot Bisque
URL:https://notbybread.com/event/pastas-1-waldorf-2-spring-vegetable-soups-1-split-pea-ham-2-carrot-bisque/
END:VEVENT
BEGIN:VEVENT
DTSTART;TZID=America/Chicago:20260424T000000
DTEND;TZID=America/Chicago:20260425T235959
DTSTAMP:20260422T071436
CREATED:20260406T124550Z
LAST-MODIFIED:20260406T124550Z
UID:903-1776988800-1777161599@notbybread.com
SUMMARY:Pasta (1. Chicken Penne with Dill  2. Italian)  Soups (1. Creamy Tomato Bacon 2. Many Onion)
DESCRIPTION:April 24\n1. Chicken Penne with Dill \n2. Italian\n1. Creamy Tomato Bacon \n2. Many Onion
URL:https://notbybread.com/event/pasta-1-chicken-penne-with-dill-2-italian-soups-1-creamy-tomato-bacon-2-many-onion/
END:VEVENT
BEGIN:VEVENT
DTSTART;TZID=America/Chicago:20260427T000000
DTEND;TZID=America/Chicago:20260428T235959
DTSTAMP:20260422T071436
CREATED:20260406T124640Z
LAST-MODIFIED:20260406T124640Z
UID:905-1777248000-1777420799@notbybread.com
SUMMARY:Pastas (1. BBQ Chicken 2.  Mozzarella Tomato Basil)  Soups (1. Mulligatawny 2. Carrot Ginger)
DESCRIPTION:April 27-28\n1. BBQ Chicken\n2.  Mozzarella Tomato Basil\n1. Mulligatawny\n2. Carrot Ginger
URL:https://notbybread.com/event/pastas-1-bbq-chicken-2-mozzarella-tomato-basil-soups-1-mulligatawny-2-carrot-ginger/
END:VEVENT
BEGIN:VEVENT
DTSTART;TZID=America/Chicago:20260429T000000
DTEND;TZID=America/Chicago:20260430T235959
DTSTAMP:20260422T071436
CREATED:20260406T124743Z
LAST-MODIFIED:20260406T124743Z
UID:907-1777420800-1777593599@notbybread.com
SUMMARY:Pastas (1. Cajun Chicken  2. Balsamic Tortellini)   Soups  (1. Chicken & Wild Rice 2.  Spicy Tomato Dill)
DESCRIPTION:April 29-30\n1. Cajun Chicken  \n2. Balsamic Tortellini\n1. Chicken & Wild Rice\n2.  Spicy Tomato Dill
URL:https://notbybread.com/event/pastas-1-cajun-chicken-2-balsamic-tortellini-soups-1-chicken-wild-rice-2-spicy-tomato-dill/
END:VEVENT
BEGIN:VEVENT
DTSTART;TZID=America/Chicago:20260501T000000
DTEND;TZID=America/Chicago:20260502T235959
DTSTAMP:20260422T071436
CREATED:20260406T124835Z
LAST-MODIFIED:20260406T124907Z
UID:909-1777593600-1777766399@notbybread.com
SUMMARY:Pastas (1. Chicken & Peapod 2. Ginger Noodle)              Soups  (1. Lasagna 2. Potato Leek & Spinach)
DESCRIPTION:May 1\n1. Chicken & Peapod\n2. Ginger Noodle\n1. Lasagna\n2. Potato Leek & Spinach
URL:https://notbybread.com/event/pastas-1-chicken-peapod-2-ginger-noodle-soups-1-lasagna-2-potato-leek-spinach/
END:VEVENT
END:VCALENDAR